BEGIN:VCALENDAR
VERSION:2.0
PRODID:-//Mahanay Bell Tower - ECPv6.15.17//NONSGML v1.0//EN
CALSCALE:GREGORIAN
METHOD:PUBLISH
X-ORIGINAL-URL:https://mahanaybelltower.org
X-WR-CALDESC:Events for Mahanay Bell Tower
REFRESH-INTERVAL;VALUE=DURATION:PT1H
X-Robots-Tag:noindex
X-PUBLISHED-TTL:PT1H
BEGIN:VTIMEZONE
TZID:UTC
BEGIN:STANDARD
TZOFFSETFROM:+0000
TZOFFSETTO:+0000
TZNAME:UTC
DTSTART:20240101T000000
END:STANDARD
END:VTIMEZONE
BEGIN:VEVENT
DTSTART;TZID=UTC:20250526T121500
DTEND;TZID=UTC:20250526T123000
DTSTAMP:20260419T115306
CREATED:20250508T182640Z
LAST-MODIFIED:20250508T183204Z
UID:3315-1748261700-1748262600@mahanaybelltower.org
SUMMARY:Tower Tunes Live Concert
DESCRIPTION:Mahanay Maestro Shelly Berger will play the carillon with Memorial Day songs of her choice.
URL:https://mahanaybelltower.org/event/tower-tunes-live-concert-226/
CATEGORIES:Tower Tunes Live
END:VEVENT
BEGIN:VEVENT
DTSTART;TZID=UTC:20250528T121500
DTEND;TZID=UTC:20250528T123000
DTSTAMP:20260419T115306
CREATED:20250508T183438Z
LAST-MODIFIED:20250508T183734Z
UID:3316-1748434500-1748435400@mahanaybelltower.org
SUMMARY:Tower Tunes Live Concert
DESCRIPTION:Mahanay Maestro Rick Morain will play the carillon with songs of his choice.
URL:https://mahanaybelltower.org/event/tower-tunes-live-concert-227/
CATEGORIES:Tower Tunes Live
END:VEVENT
END:VCALENDAR